BEGIN:VCALENDAR
VERSION:2.0
PRODID:-//hacksw/handcal//NONSGML v1.0//EN
BEGIN:VEVENT
SUMMARY:Stage jeunes a Pavilly
UID:4a4f3b55-8c3e-4e3e-aad8-e6c75549cdda
DTSTART:20260525T073000Z
DTEND:20260525T150000Z
LOCATION:Petanque Club Pavillais Complexe sportif de la Viardiere, rue de Freckenhorst 76570 Pavilly
CATEGORIES:Stage
STATUS:
DESCRIPTION:<p>Le club propose un stage pour les jeunes le lundi 25
 mai 🎉<br>
 🕤 Accueil a partir de 9h30<br>
 🕔 Fin de la journee
 a 17h (apres le gouter)</p>
 
 <p>Au programme :<br>
 🔹 Atelier +
 jeux le matin<br>
 🥪 Pique-nique au club le midi<br>
 🔹 Concours
 a la melee l’apres-midi<br>
 🍪 Gouter et recompenses  a
 16h00<br>
 Une belle journee pour progresser tout en s’amusant
 💪<br>
 👉 Stage ouvert aux categories minimes et
 cadets</p>
 
 <p>💰 Tarifs :<br>
 ✔️ Gratuit ( pris en charge par
 le club)  pour les membres du club de Pavilly<br>
 ✔️ 10€ par
 enfant pour les exterieurs (repas, gouter et stage inclus)<br>
 📞
 Pour les personnes exterieures, merci de contacter Ghislain Bourdin
 au 07 66 32 38 14<br>
 A tres vite 👋</p>
URL;VALUE=URI:https://www.petanqueclubpavillais.fr/evenements/2026/05/25/stage-jeunes-a-pavilly-2444602
END:VEVENT
END:VCALENDAR
